BEGIN:VCALENDAR
VERSION:2.0
PRODID:-//eventon.com NONSGML v1.0//EN
CALSCALE:GREGORIAN
METHOD:PUBLISH
BEGIN:VEVENT
UID:69e8adc399a46
DTSTAMP:20260422T131515
DTSTART:20181201T210000Z
DTEND:20181202T030000Z
TZID:UTC
LOCATION:
SUMMARY:LUUK „Renaissance“ Plattentaufe
DESCRIPTION:Die Schweizer Hip-Hop-Szene ist nicht gerade dafür bekannt\,  ein bequemes Pflaster zu sein. Aber LUUK hat sich in den letzten 8 Jahren einen festen Platz darin erarbeitet. Knapp zwei Jahre nach Nirwana veröffentlicht er am 26. Oktober 2018 sein bereits viertes Album Renaissance. Das Album wird sein bisher vielfältigstes und innovativstes Projekt. LUUK ist[..]\nhttps://www.krempel.ch/events/luuk-renaissance-plattentaufe/
URL:https://www.krempel.ch/events/luuk-renaissance-plattentaufe/
END:VEVENT
END:VCALENDAR