BEGIN:VCALENDAR
VERSION:2.0
PRODID:-//eventon.com NONSGML v1.0//EN
CALSCALE:GREGORIAN
METHOD:PUBLISH
BEGIN:VEVENT
UID:69eb44197177f
DTSTAMP:20260424T122113
DTSTART:20180825T140000Z
DTEND:20180826T020000Z
TZID:UTC
LOCATION:
SUMMARY:Krempel@BXRFST'18
DESCRIPTION:&#8222;Never change a winning team&#8220; &#8211; kein Buchserfest ohne Krempel! Wie gewohnt steht der Krempel am BXRFST für lokal\,  rockig und pure Tanz- und Lebenslust. Komm bei uns an der Bahnhofsstrasse vorbei auf ein kühles Bier oder einen leckeren Drink und stosse mit deinen Freunden auf das Buchserfest 2018 an.[..]\nhttps://www.krempel.ch/events/krempelbxrfst18/
URL:https://www.krempel.ch/events/krempelbxrfst18/
END:VEVENT
END:VCALENDAR