BEGIN:VCALENDAR
VERSION:2.0
PRODID:-//eventon.com NONSGML v1.0//EN
CALSCALE:GREGORIAN
METHOD:PUBLISH
BEGIN:VEVENT
UID:69eb58f025c2c
DTSTAMP:20260424T135008
DTSTART:20180922T220000Z
DTEND:20180923T050000Z
TZID:UTC
LOCATION:
SUMMARY:Saisonstart: 80s Forever
DESCRIPTION:Sound: 80s DJ&#8217;s: 80s Forever Shout\,  shout\,  let it all out: Die 80s Forever Party\,  bekannt aus Funk und Internet und begehrt in Zürich\,  Luzern und Lyss\,  is coming back to Funky Town! Und damit das 80er-Feeling perfekt wird\,  läuft jeder Song als Original-Videoclip auf Grossleinwand! Mottopartys sind an sich[..]\nhttps://www.krempel.ch/events/saisonstart-80s-forever-2/
URL:https://www.krempel.ch/events/saisonstart-80s-forever-2/
END:VEVENT
END:VCALENDAR