BEGIN:VCALENDAR
VERSION:2.0
PRODID:-//eventon.com NONSGML v1.0//EN
CALSCALE:GREGORIAN
METHOD:PUBLISH
BEGIN:VEVENT
UID:69eb83234f134
DTSTAMP:20260424T165011
DTSTART:20180825T220000Z
DTEND:20180826T050000Z
TZID:UTC
LOCATION:
SUMMARY:Bxrfscht Afta Aua mit MadVamp\,  Kreamd\,  Bace und Slize
DESCRIPTION:Headliner: MadVamp\,  Kreamd\,  Bace\,  Slize Stil: House &amp; Trap Vorverkauf: während des Buchserfestes am Krempelstand an der Bahnhofstrasse / reduziertes Kontingent via. starticket   Heisst es bei euch nach dem letzten Bier an der Bahnhofsstrasse auch immer &#8222;Mir göhnd no lang nid hei&#8220;? Dann los\,  auf in den Krempel! Auf der[..]\nhttps://www.krempel.ch/events/bxrfscht-afta-aua-mit-madvamp-kreamd-bace-und-slize/
URL:https://www.krempel.ch/events/bxrfscht-afta-aua-mit-madvamp-kreamd-bace-und-slize/
END:VEVENT
END:VCALENDAR