BEGIN:VCALENDAR
VERSION:2.0
PRODID:-//eventon.com NONSGML v1.0//EN
CALSCALE:GREGORIAN
METHOD:PUBLISH
BEGIN:VEVENT
UID:69eb82f05b888
DTSTAMP:20260424T164920
DTSTART:20180616T220000Z
DTEND:20180617T050000Z
TZID:UTC
LOCATION:
SUMMARY:Saisonschluss -FOTOS-
DESCRIPTION:X BUCHS &#8211; DIE AFFEN KOMMEN! SOUNDS OF TOMORROWLAND MEETS ESKALATION &amp; KONFETTI! X Master of Turntables: Kiss The Monkey Soundsystem X Ich glaub\,  mich knutscht ein Affe! In diesem Dschungel gibt‘s was auf die Ohren: mit jeder Menge dreckigen Synthies\,  fetten Baselines und harten Kicks. Konkrete Moves treffen auf haufenweise Konfetti[..]\nhttps://www.krempel.ch/events/saisonschluss/
URL:https://www.krempel.ch/events/saisonschluss/
END:VEVENT
END:VCALENDAR