BEGIN:VCALENDAR
VERSION:2.0
PRODID:-//eventon.com NONSGML v1.0//EN
CALSCALE:GREGORIAN
METHOD:PUBLISH
BEGIN:VEVENT
UID:69eb9846594b3
DTSTAMP:20260424T182022
DTSTART:20180608T210000Z
DTEND:20180609T030000Z
TZID:UTC
LOCATION:
SUMMARY:20 Jahre UHC Rangers mit DJ BLAZE & Def Kev
DESCRIPTION:20 Jahre UHC Rangers Grabs-Werdenberg. 20 Jahre Hallenschuhe\,  20 Jahre aufwärmen\,  20 Jahre Shirts waschen\,  Tore schiessen\,  Rennen\,  bis die Lunge brennt\,  dehnen\,  die Fans high fiven\,  den &#8222;Goali&#8220; für seine fantastischen Paraden umarmen\,  Gruppenduschen und sich 1\,  2 Bierchen auf das erfolgreiche Training oder den Aufstieg in die nächste Liga[..]\nhttps://www.krempel.ch/events/20-jahre-uhc-rangers-mit-dj-blaze-def-kev/
URL:https://www.krempel.ch/events/20-jahre-uhc-rangers-mit-dj-blaze-def-kev/
END:VEVENT
END:VCALENDAR