BEGIN:VCALENDAR
VERSION:2.0
PRODID:-//eventon.com NONSGML v1.0//EN
CALSCALE:GREGORIAN
METHOD:PUBLISH
BEGIN:VEVENT
UID:69ebaa54aeac7
DTSTAMP:20260424T193724
DTSTART:20181117T210000Z
DTEND:20181118T030000Z
TZID:UTC
LOCATION:
SUMMARY:J.B.O. - Deutsche Vita Tour
DESCRIPTION:Die Kombination aus Party\,  Fun und Metal: J.B.O. &#8211; die Verteidiger des wahren Blödsinns &#8211; machen auf ihrer Deutsche Vita Tour halt auf der Krempel-Bühne! Seit fast drei Jahrzehnten sorgen die Erlanger Spassrocker von J.B.O. mit ihrem schräg-geistreichen\,  lausbubenartig verschmitzten Humor für Aufruhr in der deutschen Musiklandschaft. Auf dem aktuellen Album „Deutsche Vita“ &#8211;[..]\nhttps://www.krempel.ch/events/vorschau-herbst-winter-2018-jbo-deutsche-vita-tour/
URL:https://www.krempel.ch/events/vorschau-herbst-winter-2018-jbo-deutsche-vita-tour/
END:VEVENT
END:VCALENDAR