BEGIN:VCALENDAR
VERSION:2.0
PRODID:-//eventon.com NONSGML v1.0//EN
CALSCALE:GREGORIAN
METHOD:PUBLISH
BEGIN:VEVENT
UID:69ebbeca2f5e9
DTSTAMP:20260424T210442
DTSTART:20181013T190000Z
DTEND:20181014T000000Z
TZID:UTC
LOCATION:
SUMMARY:bandXost 2018 - mehr als nur ein Contest
DESCRIPTION:Junge Musikerinnen und Musiker aus der Ostschweiz und dem Fürstentum Liechtenstein mit einem Altersdurchschnitt von 24 Jahren pro Band\,  erhalten am »bandXost« die Chance unter professionellen Bedingungen ins Rampenlicht zu treten und neue Kontakte zu knüpfen. Jede Band\,  jeder Musiker kann mitmachen\,  ob erfahren oder neuformiert. Das Erlebnis und die[..]\nhttps://www.krempel.ch/events/vorschau-herbst-winter-2018-bandxost-2018-mehr-als-nur-ein-contest/
URL:https://www.krempel.ch/events/vorschau-herbst-winter-2018-bandxost-2018-mehr-als-nur-ein-contest/
END:VEVENT
END:VCALENDAR