BEGIN:VCALENDAR
VERSION:2.0
PRODID:-//eventon.com NONSGML v1.0//EN
CALSCALE:GREGORIAN
METHOD:PUBLISH
BEGIN:VEVENT
UID:69ebe55f5137c
DTSTAMP:20260424T234919
DTSTART:20180512T220000Z
DTEND:20180512T050000Z
TZID:UTC
LOCATION:
SUMMARY:Party mit Evil Jared Hasselhoff
DESCRIPTION:Am 12. Mai gehen wir steil &#8211; Evil Jared Hasselhoff ist zurück im Krempel! Der ehemalige Bassist der Legendenband Bloodhound Gang hat sich nicht nur einen Namen als Entertainer bei Circus HalliGalli oder seiner Show Evil Science gemacht\,  sondern gibt auch als DJ seine unbändige Partylaune und zahllose Jägermeister-Shots an die Crowd[..]\nhttps://www.krempel.ch/events/bravo-hits-party-mit-evil-jared-hasselhoff/
URL:https://www.krempel.ch/events/bravo-hits-party-mit-evil-jared-hasselhoff/
END:VEVENT
END:VCALENDAR