BEGIN:VCALENDAR
VERSION:2.0
PRODID:-//eventon.com NONSGML v1.0//EN
CALSCALE:GREGORIAN
METHOD:PUBLISH
BEGIN:VEVENT
UID:69ebfa018e214
DTSTAMP:20260425T011721
DTSTART:20180509T190000Z
DTEND:20180510T030000Z
TZID:UTC
LOCATION:
SUMMARY:Grilladen & Soundgschnetzlets mit Fj Igore & Dj don8 (Auffahrt)
DESCRIPTION:Wie an diesem Datum üblich zelebrieren wir nicht nur die Musik\,  sondern auch das gemeinsame Zusammensein und Schlemmen. Hungrige bringen ihr Steak\,  ihre Wurst oder ihr Grillkäsli sowie weitere Delikatessen mit und schmeissen es auf unseren heissen Grillrost. Ab 19.00 Uhr glüht die Holzkohle und unser Grillmeister ist für euch[..]\nhttps://www.krempel.ch/events/grilladen-soundgschnetzlets-mit-fj-igore-dj-don8/
URL:https://www.krempel.ch/events/grilladen-soundgschnetzlets-mit-fj-igore-dj-don8/
END:VEVENT
END:VCALENDAR