BEGIN:VCALENDAR
VERSION:2.0
PRODID:-//eventon.com NONSGML v1.0//EN
CALSCALE:GREGORIAN
METHOD:PUBLISH
BEGIN:VEVENT
UID:69e92975cca17
DTSTAMP:20260422T220301
DTSTART:20161008T220000Z
DTEND:20161009T050000Z
TZID:UTC
LOCATION:
SUMMARY:Krempel Allstars DJ Night
DESCRIPTION:Zum feiern einer „Krempel Allstars DJ Night“ gehört nebst umfassendem Zelebrieren des Jetzt selbstverständlich auch reichlich Nostalgie. Obwohl die Geburtsstunde des Krempels noch gar nicht nach viel Vergangenheit klingt\,  ist in der Zeit doch einiges passiert. Wer damals 18 war ist nun um die 30\,  wer gerade auszog bekommt vielleicht[..]\nhttps://www.krempel.ch/events/krempel-allstars-dj-night/
URL:https://www.krempel.ch/events/krempel-allstars-dj-night/
END:VEVENT
END:VCALENDAR